BEGIN:VCALENDAR
VERSION:2.0
PRODID:-//wp-events-plugin.com//7.2.3.1//EN
TZID:Europe/Berlin
X-WR-TIMEZONE:Europe/Berlin
BEGIN:VEVENT
UID:169@bfm-bayreuth.de
DTSTART;TZID=Europe/Berlin:20181004T130000
DTEND;TZID=Europe/Berlin:20181004T180000
DTSTAMP:20230613T064152Z
URL:https://www.bfm-bayreuth.de/aktuelles/events/1-bayrisk-kongress-in-bay
 reuth/
SUMMARY:1. BayRisk-Kongress in Bayreuth
DESCRIPTION:1. BayRisk-Kongress in Bayreuth
CATEGORIES:Institut
END:VEVENT
BEGIN:VTIMEZONE
TZID:Europe/Berlin
X-LIC-LOCATION:Europe/Berlin
BEGIN:DAYLIGHT
DTSTART:20180325T030000
TZOFFSETFROM:+0100
TZOFFSETTO:+0200
TZNAME:CEST
END:DAYLIGHT
END:VTIMEZONE
END:VCALENDAR