BEGIN:VCALENDAR
VERSION:2.0
PRODID:-//wp-events-plugin.com//7.2.3.1//EN
TZID:Europe/Berlin
X-WR-TIMEZONE:Europe/Berlin
BEGIN:VEVENT
UID:721@bfm-bayreuth.de
DTSTART;TZID=Europe/Berlin:20260423T120000
DTEND;TZID=Europe/Berlin:20260423T173000
DTSTAMP:20260422T093150Z
URL:https://www.bfm-bayreuth.de/aktuelles/events/13-oberfraenkischer-perso
 nal-und-praxistag-oppt/
SUMMARY:13. Oberfränkischer Personal- und Praxistag (OPPT)
DESCRIPTION:13. Oberfränkischer Personal- und Praxistag (OPPT)
ATTACH;FMTTYPE=image/jpeg:https://www.bfm-bayreuth.de/wp-content/uploads/2
 026/03/beitragsbildbanz.png
CATEGORIES:Institut
LOCATION:Bildungszentrum Kloster Banz\, Kutschenhalle\, Kloster Banz 2\, 96
 231 Bad Staffelstein\, Deutschland
X-APPLE-STRUCTURED-LOCATION;VALUE=URI;X-ADDRESS=Kloster Banz 2\, 96231 Bad 
 Staffelstein\, Deutschland;X-APPLE-RADIUS=100;X-TITLE=Bildungszentrum Klos
 ter Banz\, Kutschenhalle:geo:0,0
END:VEVENT
BEGIN:VTIMEZONE
TZID:Europe/Berlin
X-LIC-LOCATION:Europe/Berlin
BEGIN:DAYLIGHT
DTSTART:20260329T030000
TZOFFSETFROM:+0100
TZOFFSETTO:+0200
TZNAME:CEST
END:DAYLIGHT
END:VTIMEZONE
END:VCALENDAR