BEGIN:VCALENDAR
VERSION:2.0
PRODID:-//wp-events-plugin.com//7.2.3.1//EN
TZID:Europe/Berlin
X-WR-TIMEZONE:Europe/Berlin
BEGIN:VEVENT
UID:243@bfm-bayreuth.de
DTSTART;TZID=Europe/Berlin:20190428T110000
DTEND;TZID=Europe/Berlin:20190428T133000
DTSTAMP:20230613T064243Z
URL:https://www.bfm-bayreuth.de/aktuelles/events/2-gruender-brunch-in-bayr
 euth/
SUMMARY:2. Gründer-Brunch in Bayreuth
DESCRIPTION:2. Gründer-Brunch in Bayreuth
CATEGORIES:Institut
END:VEVENT
BEGIN:VTIMEZONE
TZID:Europe/Berlin
X-LIC-LOCATION:Europe/Berlin
BEGIN:DAYLIGHT
DTSTART:20190331T030000
TZOFFSETFROM:+0100
TZOFFSETTO:+0200
TZNAME:CEST
END:DAYLIGHT
END:VTIMEZONE
END:VCALENDAR