BEGIN:VCALENDAR
VERSION:2.0
PRODID:-//wp-events-plugin.com//7.2.3.1//EN
TZID:Europe/Berlin
X-WR-TIMEZONE:Europe/Berlin
BEGIN:VEVENT
UID:404@bfm-bayreuth.de
DTSTART;TZID=Europe/Berlin:20210218T130000
DTEND;TZID=Europe/Berlin:20210218T161500
DTSTAMP:20230613T064303Z
URL:https://www.bfm-bayreuth.de/aktuelles/events/2-veranstaltung-sessiontw
 o-der-seminarreihe-lessons-learned-challenge-accepted-hr-in-pandemie-zeite
 n-am-18-februar-2021/
SUMMARY:2. Veranstaltung „SessionTwo“ der Seminarreihe „Lessons Learn
 ed & Challenge Accepted – HR in Pandemie-Zeiten“ am 18. Februar 2021
DESCRIPTION:2. Veranstaltung „SessionTwo“ der Seminarreihe „Lessons L
 earned & Challenge Accepted – HR in Pandemie-Zeiten“ am 18. Februar 20
 21
CATEGORIES:Institut
END:VEVENT
BEGIN:VTIMEZONE
TZID:Europe/Berlin
X-LIC-LOCATION:Europe/Berlin
BEGIN:STANDARD
DTSTART:20201025T020000
TZOFFSETFROM:+0200
TZOFFSETTO:+0100
TZNAME:CET
END:STANDARD
END:VTIMEZONE
END:VCALENDAR