BEGIN:VCALENDAR
VERSION:2.0
PRODID:-//wp-events-plugin.com//7.2.3.1//EN
TZID:Europe/Berlin
X-WR-TIMEZONE:Europe/Berlin
BEGIN:VEVENT
UID:458@bfm-bayreuth.de
DTSTART;TZID=Europe/Berlin:20211119T160000
DTEND;TZID=Europe/Berlin:20211119T180000
DTSTAMP:20230613T064305Z
URL:https://www.bfm-bayreuth.de/aktuelles/events/9-bayreuther-finanzmarkts
 ymposium-crypto-currencies-legal-an-economic-perspectives/
SUMMARY:9. Bayreuther Finanzmarktsymposium „Crypto currencies – legal a
 n economic perspectives“
DESCRIPTION:9. Bayreuther Finanzmarktsymposium „Crypto currencies – leg
 al an economic perspectives“
CATEGORIES:Institut
END:VEVENT
BEGIN:VTIMEZONE
TZID:Europe/Berlin
X-LIC-LOCATION:Europe/Berlin
BEGIN:STANDARD
DTSTART:20211031T020000
TZOFFSETFROM:+0200
TZOFFSETTO:+0100
TZNAME:CET
END:STANDARD
END:VTIMEZONE
END:VCALENDAR