BEGIN:VCALENDAR
VERSION:2.0
PRODID:-//wp-events-plugin.com//7.2.3.1//EN
TZID:Europe/Berlin
X-WR-TIMEZONE:Europe/Berlin
BEGIN:VEVENT
UID:408@bfm-bayreuth.de
DTSTART;TZID=Europe/Berlin:20210317T140000
DTEND;TZID=Europe/Berlin:20210317T171500
DTSTAMP:20230613T064303Z
URL:https://www.bfm-bayreuth.de/aktuelles/events/abschlusskonferenz-im-bmb
 f-projekt-praevention-fuer-sicheres-und-gesundes-arbeiten-mit-digitalen-te
 chnologien-praeditec/
SUMMARY:Abschlusskonferenz im BMBF-Projekt „Prävention für sicheres und
  gesundes Arbeiten mit digitalen Technologien (PräDiTec)"
DESCRIPTION:Abschlusskonferenz im BMBF-Projekt „Prävention für sicheres
  und gesundes Arbeiten mit digitalen Technologien (PräDiTec)"
CATEGORIES:Institut
END:VEVENT
BEGIN:VTIMEZONE
TZID:Europe/Berlin
X-LIC-LOCATION:Europe/Berlin
BEGIN:STANDARD
DTSTART:20201025T020000
TZOFFSETFROM:+0200
TZOFFSETTO:+0100
TZNAME:CET
END:STANDARD
END:VTIMEZONE
END:VCALENDAR