BEGIN:VCALENDAR
VERSION:2.0
PRODID:-//wp-events-plugin.com//7.2.3.1//EN
TZID:Europe/Berlin
X-WR-TIMEZONE:Europe/Berlin
BEGIN:VEVENT
UID:470@bfm-bayreuth.de
DTSTART;TZID=Europe/Berlin:20220210T180000
DTEND;TZID=Europe/Berlin:20220210T201000
DTSTAMP:20230613T064306Z
URL:https://www.bfm-bayreuth.de/aktuelles/events/abschlussveranstaltung-5-
 euro-business/
SUMMARY:Abschlussveranstaltung "5-Euro-Business
DESCRIPTION:Abschlussveranstaltung "5-Euro-Business
CATEGORIES:Institut
END:VEVENT
BEGIN:VTIMEZONE
TZID:Europe/Berlin
X-LIC-LOCATION:Europe/Berlin
BEGIN:STANDARD
DTSTART:20211031T020000
TZOFFSETFROM:+0200
TZOFFSETTO:+0100
TZNAME:CET
END:STANDARD
END:VTIMEZONE
END:VCALENDAR