BEGIN:VCALENDAR
VERSION:2.0
PRODID:-//wp-events-plugin.com//7.2.3.1//EN
TZID:Europe/Berlin
X-WR-TIMEZONE:Europe/Berlin
BEGIN:VEVENT
UID:415@bfm-bayreuth.de
DTSTART;TZID=Europe/Berlin:20210415T173000
DTEND;TZID=Europe/Berlin:20210415T193000
DTSTAMP:20230613T064303Z
URL:https://www.bfm-bayreuth.de/aktuelles/events/agiles-projektmanagement-
 trifft-die-realitaet-best-practises-und-worst-cases/
SUMMARY:Agiles Projektmanagement trifft die Realität – Best Practises un
 d Worst Cases
DESCRIPTION:Agiles Projektmanagement trifft die Realität – Best Practise
 s und Worst Cases
CATEGORIES:Institut
END:VEVENT
BEGIN:VTIMEZONE
TZID:Europe/Berlin
X-LIC-LOCATION:Europe/Berlin
BEGIN:DAYLIGHT
DTSTART:20210328T030000
TZOFFSETFROM:+0100
TZOFFSETTO:+0200
TZNAME:CEST
END:DAYLIGHT
END:VTIMEZONE
END:VCALENDAR