BEGIN:VCALENDAR
VERSION:2.0
PRODID:-//wp-events-plugin.com//7.2.3.1//EN
TZID:Europe/Berlin
X-WR-TIMEZONE:Europe/Berlin
BEGIN:VEVENT
UID:618@bfm-bayreuth.de
DTSTART;TZID=Europe/Berlin:20241008T180000
DTEND;TZID=Europe/Berlin:20241008T200000
DTSTAMP:20241009T104759Z
URL:https://www.bfm-bayreuth.de/aktuelles/events/bayreuth-start-connect/
SUMMARY:Bayreuth Start & Connect
DESCRIPTION:Bayreuth Start & Connect
ATTACH;FMTTYPE=image/jpeg:https://www.bfm-bayreuth.de/wp-content/uploads/2
 024/07/Start_Events.jpg
CATEGORIES:Kooperationspartner
LOCATION:Open Innovation Lab\, Nürnbergerstr. 38\, Haus Zapf 1\, 95448 Bay
 reuth\, 95448\, Deutschland
X-APPLE-STRUCTURED-LOCATION;VALUE=URI;X-ADDRESS=Nürnbergerstr. 38\, Haus Z
 apf 1\, 95448 Bayreuth\, 95448\, Deutschland;X-APPLE-RADIUS=100;X-TITLE=Op
 en Innovation Lab:geo:0,0
END:VEVENT
BEGIN:VTIMEZONE
TZID:Europe/Berlin
X-LIC-LOCATION:Europe/Berlin
BEGIN:DAYLIGHT
DTSTART:20240331T030000
TZOFFSETFROM:+0100
TZOFFSETTO:+0200
TZNAME:CEST
END:DAYLIGHT
END:VTIMEZONE
END:VCALENDAR