BEGIN:VCALENDAR
VERSION:2.0
PRODID:-//wp-events-plugin.com//7.2.3.1//EN
TZID:Europe/Berlin
X-WR-TIMEZONE:Europe/Berlin
BEGIN:VEVENT
UID:579@bfm-bayreuth.de
DTSTART;TZID=Europe/Berlin:20240409T190000
DTEND;TZID=Europe/Berlin:20240409T210000
DTSTAMP:20240301T162957Z
URL:https://www.bfm-bayreuth.de/aktuelles/events/bayreuther-unternehmersta
 mmtisch-bus-remanlab/
SUMMARY:Bayreuther Unternehmerstammtisch BUS - RemanLab
DESCRIPTION:Bayreuther Unternehmerstammtisch BUS - RemanLab
ATTACH;FMTTYPE=image/jpeg:https://www.bfm-bayreuth.de/wp-content/uploads/2
 024/02/BUS_Weiss-002.jpg
CATEGORIES:Institut
LOCATION:Fraunhofer-Institut für Produktionstechnik und Automatisierung\, 
 Universitätsstrasse\, 95447 Bayreuth\, 98447\, Deutschland
X-APPLE-STRUCTURED-LOCATION;VALUE=URI;X-ADDRESS=Universitätsstrasse\, 9544
 7 Bayreuth\, 98447\, Deutschland;X-APPLE-RADIUS=100;X-TITLE=Fraunhofer-Ins
 titut für Produktionstechnik und Automatisierung:geo:0,0
END:VEVENT
BEGIN:VTIMEZONE
TZID:Europe/Berlin
X-LIC-LOCATION:Europe/Berlin
BEGIN:DAYLIGHT
DTSTART:20240331T030000
TZOFFSETFROM:+0100
TZOFFSETTO:+0200
TZNAME:CEST
END:DAYLIGHT
END:VTIMEZONE
END:VCALENDAR