BEGIN:VCALENDAR
VERSION:2.0
PRODID:-//wp-events-plugin.com//7.2.3.1//EN
TZID:Europe/Berlin
X-WR-TIMEZONE:Europe/Berlin
BEGIN:VEVENT
UID:497@bfm-bayreuth.de
DTSTART;TZID=Europe/Berlin:20220907T163000
DTEND;TZID=Europe/Berlin:20220907T180000
DTSTAMP:20231011T154313Z
URL:https://www.bfm-bayreuth.de/aktuelles/events/betrieblicher-brandschutz
 -in-der-praxis-von-anfang-an/
SUMMARY:Betrieblicher Brandschutz in der Praxis - von Anfang an!
DESCRIPTION:Betrieblicher Brandschutz in der Praxis - von Anfang an!
CATEGORIES:DGZ
END:VEVENT
BEGIN:VTIMEZONE
TZID:Europe/Berlin
X-LIC-LOCATION:Europe/Berlin
BEGIN:DAYLIGHT
DTSTART:20220327T030000
TZOFFSETFROM:+0100
TZOFFSETTO:+0200
TZNAME:CEST
END:DAYLIGHT
END:VTIMEZONE
END:VCALENDAR