BEGIN:VCALENDAR
VERSION:2.0
PRODID:-//wp-events-plugin.com//7.2.3.1//EN
TZID:Europe/Berlin
X-WR-TIMEZONE:Europe/Berlin
BEGIN:VEVENT
UID:473@bfm-bayreuth.de
DTSTART;TZID=Europe/Berlin:20220317T130000
DTEND;TZID=Europe/Berlin:20220317T160000
DTSTAMP:20230613T064306Z
URL:https://www.bfm-bayreuth.de/aktuelles/events/bf-m-meets-personet-digit
 al-fuer-schuelerinnen-azubis-und-fachkraefte-m-w-d/
SUMMARY:BF/M meets PERSONET – Digital für Schülerinnen\, Azubis und Fac
 hkräfte (m/w/d)
DESCRIPTION:BF/M meets PERSONET – Digital für Schülerinnen\, Azubis und
  Fachkräfte (m/w/d)
CATEGORIES:Institut
END:VEVENT
BEGIN:VTIMEZONE
TZID:Europe/Berlin
X-LIC-LOCATION:Europe/Berlin
BEGIN:STANDARD
DTSTART:20211031T020000
TZOFFSETFROM:+0200
TZOFFSETTO:+0100
TZNAME:CET
END:STANDARD
END:VTIMEZONE
END:VCALENDAR