BEGIN:VCALENDAR
VERSION:2.0
PRODID:-//wp-events-plugin.com//7.2.3.1//EN
TZID:Europe/Berlin
X-WR-TIMEZONE:Europe/Berlin
BEGIN:VEVENT
UID:417@bfm-bayreuth.de
DTSTART;TZID=Europe/Berlin:20210422T130000
DTEND;TZID=Europe/Berlin:20210422T160000
DTSTAMP:20230613T064303Z
URL:https://www.bfm-bayreuth.de/aktuelles/events/bf-m-meets-personet-neue-
 wege-in-die-zukunft/
SUMMARY:BF/M meets PERSONET – Neue Wege in die Zukunft
DESCRIPTION:BF/M meets PERSONET – Neue Wege in die Zukunft
CATEGORIES:Institut
END:VEVENT
BEGIN:VTIMEZONE
TZID:Europe/Berlin
X-LIC-LOCATION:Europe/Berlin
BEGIN:DAYLIGHT
DTSTART:20210328T030000
TZOFFSETFROM:+0100
TZOFFSETTO:+0200
TZNAME:CEST
END:DAYLIGHT
END:VTIMEZONE
END:VCALENDAR