BEGIN:VCALENDAR
VERSION:2.0
PRODID:-//wp-events-plugin.com//7.2.3.1//EN
TZID:Europe/Berlin
X-WR-TIMEZONE:Europe/Berlin
BEGIN:VEVENT
UID:476@bfm-bayreuth.de
DTSTART;TZID=Europe/Berlin:20220331T130000
DTEND;TZID=Europe/Berlin:20220331T150000
DTSTAMP:20230613T064306Z
URL:https://www.bfm-bayreuth.de/aktuelles/events/bf-m-meets-personet-sessi
 on-ii-entwicklung-und-digitalisierung-von-und-fuer-mitarbeitende-und-chefs
 -termin-1/
SUMMARY:„BF/M meets PERSONET -Session II: Entwicklung und Digitalisierung
  von und für Mitarbeitende und Chefs“ - Termin 1
DESCRIPTION:„BF/M meets PERSONET -Session II: Entwicklung und Digitalisie
 rung von und für Mitarbeitende und Chefs“ - Termin 1
CATEGORIES:Institut
END:VEVENT
BEGIN:VTIMEZONE
TZID:Europe/Berlin
X-LIC-LOCATION:Europe/Berlin
BEGIN:DAYLIGHT
DTSTART:20220327T030000
TZOFFSETFROM:+0100
TZOFFSETTO:+0200
TZNAME:CEST
END:DAYLIGHT
END:VTIMEZONE
END:VCALENDAR