BEGIN:VCALENDAR
VERSION:2.0
PRODID:-//wp-events-plugin.com//7.2.3.1//EN
TZID:Europe/Berlin
X-WR-TIMEZONE:Europe/Berlin
BEGIN:VEVENT
UID:131@bfm-bayreuth.de
DTSTART;TZID=Europe/Berlin:20180419T080000
DTEND;TZID=Europe/Berlin:20180419T100000
DTSTAMP:20230613T064150Z
URL:https://www.bfm-bayreuth.de/aktuelles/events/business-fruehstueck-der-
 wirtschaftsjunioren-bayreuth-2/
SUMMARY:Business-Frühstück der Wirtschaftsjunioren Bayreuth
DESCRIPTION:Business-Frühstück der Wirtschaftsjunioren Bayreuth
CATEGORIES:Institut
END:VEVENT
BEGIN:VTIMEZONE
TZID:Europe/Berlin
X-LIC-LOCATION:Europe/Berlin
BEGIN:DAYLIGHT
DTSTART:20180325T030000
TZOFFSETFROM:+0100
TZOFFSETTO:+0200
TZNAME:CEST
END:DAYLIGHT
END:VTIMEZONE
END:VCALENDAR