BEGIN:VCALENDAR
VERSION:2.0
PRODID:-//wp-events-plugin.com//7.2.3.1//EN
TZID:Europe/Berlin
X-WR-TIMEZONE:Europe/Berlin
BEGIN:VEVENT
UID:192@bfm-bayreuth.de
DTSTART;TZID=Europe/Berlin:20181122T170000
DTEND;TZID=Europe/Berlin:20181122T200000
DTSTAMP:20230613T064241Z
URL:https://www.bfm-bayreuth.de/aktuelles/events/dgz-hof-businessplaning-k
 ompakt-mit-baystartup/
SUMMARY:Einstein1: Businessplaning Kompakt mit BayStartUP
DESCRIPTION:Einstein1: Businessplaning Kompakt mit BayStartUP
CATEGORIES:Institut
END:VEVENT
BEGIN:VTIMEZONE
TZID:Europe/Berlin
X-LIC-LOCATION:Europe/Berlin
BEGIN:STANDARD
DTSTART:20181028T020000
TZOFFSETFROM:+0200
TZOFFSETTO:+0100
TZNAME:CET
END:STANDARD
END:VTIMEZONE
END:VCALENDAR