BEGIN:VCALENDAR
VERSION:2.0
PRODID:-//wp-events-plugin.com//7.2.3.1//EN
TZID:Europe/Berlin
X-WR-TIMEZONE:Europe/Berlin
BEGIN:VEVENT
UID:190@bfm-bayreuth.de
DTSTART;TZID=Europe/Berlin:20181115T190000
DTEND;TZID=Europe/Berlin:20181115T203000
DTSTAMP:20230613T064241Z
URL:https://www.bfm-bayreuth.de/aktuelles/events/dgz-hof-tech-startups-can
 adian-style-mit-robert-reppel/
SUMMARY:Einstein1: Tech Startups “Canadian Style” mit Robert Reppel
DESCRIPTION:Einstein1: Tech Startups “Canadian Style” mit Robert Reppel
CATEGORIES:Institut
END:VEVENT
BEGIN:VTIMEZONE
TZID:Europe/Berlin
X-LIC-LOCATION:Europe/Berlin
BEGIN:STANDARD
DTSTART:20181028T020000
TZOFFSETFROM:+0200
TZOFFSETTO:+0100
TZNAME:CET
END:STANDARD
END:VTIMEZONE
END:VCALENDAR