BEGIN:VCALENDAR
VERSION:2.0
PRODID:-//wp-events-plugin.com//7.2.3.1//EN
TZID:Europe/Berlin
X-WR-TIMEZONE:Europe/Berlin
BEGIN:VEVENT
UID:325@bfm-bayreuth.de
DTSTART;TZID=Europe/Berlin:20191218T170000
DTEND;TZID=Europe/Berlin:20191218T200000
DTSTAMP:20230613T064247Z
URL:https://www.bfm-bayreuth.de/aktuelles/events/dgz-veranstaltung-informa
 tionssicherheit-deren-herausforderungen-fuer-den-mittelstand/
SUMMARY:DGZ-Veranstaltung: „Informationssicherheit & deren Herausforderun
 gen für den Mittelstand“
DESCRIPTION:DGZ-Veranstaltung: „Informationssicherheit & deren Herausford
 erungen für den Mittelstand“
CATEGORIES:Institut
END:VEVENT
BEGIN:VTIMEZONE
TZID:Europe/Berlin
X-LIC-LOCATION:Europe/Berlin
BEGIN:STANDARD
DTSTART:20191027T020000
TZOFFSETFROM:+0200
TZOFFSETTO:+0100
TZNAME:CET
END:STANDARD
END:VTIMEZONE
END:VCALENDAR