BEGIN:VCALENDAR
VERSION:2.0
PRODID:-//wp-events-plugin.com//7.2.3.1//EN
TZID:Europe/Berlin
X-WR-TIMEZONE:Europe/Berlin
BEGIN:VEVENT
UID:611@bfm-bayreuth.de
DTSTART;TZID=Europe/Berlin:20240924T150000
DTEND;TZID=Europe/Berlin:20240924T180000
DTSTAMP:20240723T103322Z
URL:https://www.bfm-bayreuth.de/aktuelles/events/digital-process-day/
SUMMARY:Digital Process Day
DESCRIPTION:Digital Process Day
ATTACH;FMTTYPE=image/jpeg:https://www.bfm-bayreuth.de/wp-content/uploads/2
 024/07/Digita-Process-Day_Events.jpg
CATEGORIES:Kooperationspartner
LOCATION:Universität Bayreuth\, Universitätstr. 30\, 95447 Bayreuth\, Deu
 tschland
X-APPLE-STRUCTURED-LOCATION;VALUE=URI;X-ADDRESS=Universitätstr. 30\, 95447
  Bayreuth\, Deutschland;X-APPLE-RADIUS=100;X-TITLE=Universität Bayreuth:g
 eo:0,0
END:VEVENT
BEGIN:VTIMEZONE
TZID:Europe/Berlin
X-LIC-LOCATION:Europe/Berlin
BEGIN:DAYLIGHT
DTSTART:20240331T030000
TZOFFSETFROM:+0100
TZOFFSETTO:+0200
TZNAME:CEST
END:DAYLIGHT
END:VTIMEZONE
END:VCALENDAR