BEGIN:VCALENDAR
VERSION:2.0
PRODID:-//wp-events-plugin.com//7.2.3.1//EN
TZID:Europe/Berlin
X-WR-TIMEZONE:Europe/Berlin
BEGIN:VEVENT
UID:66@bfm-bayreuth.de
DTSTART;TZID=Europe/Berlin:20170921T180000
DTEND;TZID=Europe/Berlin:20170921T194000
DTSTAMP:20230613T064147Z
URL:https://www.bfm-bayreuth.de/aktuelles/events/effizienzsteigerung-durch
 -digitalisierung-welche-moeglichkeiten-fuer-ihr-unternehmen-stecken-hinter
 -digitalbonus-und-co/
SUMMARY:Effizienzsteigerung durch Digitalisierung - welche Möglichkeiten f
 ür Ihr Unternehmen stecken hinter Digitalbonus und Co.?
DESCRIPTION:Effizienzsteigerung durch Digitalisierung - welche Möglichkeit
 en für Ihr Unternehmen stecken hinter Digitalbonus und Co.?
CATEGORIES:Institut
END:VEVENT
BEGIN:VTIMEZONE
TZID:Europe/Berlin
X-LIC-LOCATION:Europe/Berlin
BEGIN:DAYLIGHT
DTSTART:20170326T030000
TZOFFSETFROM:+0100
TZOFFSETTO:+0200
TZNAME:CEST
END:DAYLIGHT
END:VTIMEZONE
END:VCALENDAR