BEGIN:VCALENDAR
VERSION:2.0
PRODID:-//wp-events-plugin.com//7.2.3.1//EN
TZID:Europe/Berlin
X-WR-TIMEZONE:Europe/Berlin
BEGIN:VEVENT
UID:403@bfm-bayreuth.de
DTSTART;TZID=Europe/Berlin:20210211T180000
DTEND;TZID=Europe/Berlin:20210211T200000
DTSTAMP:20230613T064303Z
URL:https://www.bfm-bayreuth.de/aktuelles/events/einladung-zur-abschlussve
 ranstaltung-5-euro-business-am-11-februar-2021/
SUMMARY:Einladung zur Abschlussveranstaltung "5-Euro-Business" am 11. Febru
 ar 2021
DESCRIPTION:Einladung zur Abschlussveranstaltung "5-Euro-Business" am 11. F
 ebruar 2021
CATEGORIES:Institut
END:VEVENT
BEGIN:VTIMEZONE
TZID:Europe/Berlin
X-LIC-LOCATION:Europe/Berlin
BEGIN:STANDARD
DTSTART:20201025T020000
TZOFFSETFROM:+0200
TZOFFSETTO:+0100
TZNAME:CET
END:STANDARD
END:VTIMEZONE
END:VCALENDAR