BEGIN:VCALENDAR
VERSION:2.0
PRODID:-//wp-events-plugin.com//7.2.3.1//EN
TZID:Europe/Berlin
X-WR-TIMEZONE:Europe/Berlin
BEGIN:VEVENT
UID:343@bfm-bayreuth.de
DTSTART;TZID=Europe/Berlin:20200302T190000
DTEND;TZID=Europe/Berlin:20200302T210000
DTSTAMP:20230613T064248Z
URL:https://www.bfm-bayreuth.de/aktuelles/events/einladung-zur-veranstaltu
 ng-unternehmen-sucht-loesung-tmt-am-2-maerz-2020-in-bayreuth/
SUMMARY:DGZ: „Unternehmen sucht Lösung: TMT“
DESCRIPTION:DGZ: „Unternehmen sucht Lösung: TMT“
CATEGORIES:Institut
END:VEVENT
BEGIN:VTIMEZONE
TZID:Europe/Berlin
X-LIC-LOCATION:Europe/Berlin
BEGIN:STANDARD
DTSTART:20191027T020000
TZOFFSETFROM:+0200
TZOFFSETTO:+0100
TZNAME:CET
END:STANDARD
END:VTIMEZONE
END:VCALENDAR