BEGIN:VCALENDAR
VERSION:2.0
PRODID:-//wp-events-plugin.com//7.2.3.1//EN
TZID:Europe/Berlin
X-WR-TIMEZONE:Europe/Berlin
BEGIN:VEVENT
UID:281@bfm-bayreuth.de
DTSTART;TZID=Europe/Berlin:20190711T190000
DTEND;TZID=Europe/Berlin:20190711T203000
DTSTAMP:20230613T064245Z
URL:https://www.bfm-bayreuth.de/aktuelles/events/einstein1-die-sommerpause
 -kann-warten/
SUMMARY:Einstein1: E-Commerce Meetup #3
DESCRIPTION:Einstein1: E-Commerce Meetup #3
CATEGORIES:Institut
END:VEVENT
BEGIN:VTIMEZONE
TZID:Europe/Berlin
X-LIC-LOCATION:Europe/Berlin
BEGIN:DAYLIGHT
DTSTART:20190331T030000
TZOFFSETFROM:+0100
TZOFFSETTO:+0200
TZNAME:CEST
END:DAYLIGHT
END:VTIMEZONE
END:VCALENDAR