BEGIN:VCALENDAR
VERSION:2.0
PRODID:-//wp-events-plugin.com//7.2.3.1//EN
TZID:Europe/Berlin
X-WR-TIMEZONE:Europe/Berlin
BEGIN:VEVENT
UID:201@bfm-bayreuth.de
DTSTART;TZID=Europe/Berlin:20181213T190000
DTEND;TZID=Europe/Berlin:20181213T203000
DTSTAMP:20230613T064241Z
URL:https://www.bfm-bayreuth.de/aktuelles/events/einstein1-erfolgreich-ver
 handeln-mit-prof-dr-willi-darr/
SUMMARY:Einstein1: Erfolgreich verhandeln mit Prof. Dr. Willi Darr
DESCRIPTION:Einstein1: Erfolgreich verhandeln mit Prof. Dr. Willi Darr
CATEGORIES:Institut
END:VEVENT
BEGIN:VTIMEZONE
TZID:Europe/Berlin
X-LIC-LOCATION:Europe/Berlin
BEGIN:STANDARD
DTSTART:20181028T020000
TZOFFSETFROM:+0200
TZOFFSETTO:+0100
TZNAME:CET
END:STANDARD
END:VTIMEZONE
END:VCALENDAR