BEGIN:VCALENDAR
VERSION:2.0
PRODID:-//wp-events-plugin.com//7.2.3.1//EN
TZID:Europe/Berlin
X-WR-TIMEZONE:Europe/Berlin
BEGIN:VEVENT
UID:234@bfm-bayreuth.de
DTSTART;TZID=Europe/Berlin:20190321T190000
DTEND;TZID=Europe/Berlin:20190321T203000
DTSTAMP:20230613T064243Z
URL:https://www.bfm-bayreuth.de/aktuelles/events/einstein1-netzwerken-mit-
 stil-mit-cindy-seifert-von-kniggelicious/
SUMMARY:Einstein1: "Netzwerken mit Stil"
DESCRIPTION:Einstein1: "Netzwerken mit Stil"
CATEGORIES:Institut
END:VEVENT
BEGIN:VTIMEZONE
TZID:Europe/Berlin
X-LIC-LOCATION:Europe/Berlin
BEGIN:STANDARD
DTSTART:20181028T020000
TZOFFSETFROM:+0200
TZOFFSETTO:+0100
TZNAME:CET
END:STANDARD
END:VTIMEZONE
END:VCALENDAR