BEGIN:VCALENDAR
VERSION:2.0
PRODID:-//wp-events-plugin.com//7.2.3.1//EN
TZID:Europe/Berlin
X-WR-TIMEZONE:Europe/Berlin
BEGIN:VEVENT
UID:351@bfm-bayreuth.de
DTSTART;TZID=Europe/Berlin:20200312T190000
DTEND;TZID=Europe/Berlin:20200312T203000
DTSTAMP:20230613T064248Z
URL:https://www.bfm-bayreuth.de/aktuelles/events/einstein1-online-marketin
 g-meetup-5/
SUMMARY:Einstein1: Online Marketing Meetup #5
DESCRIPTION:Einstein1: Online Marketing Meetup #5
CATEGORIES:Institut
END:VEVENT
BEGIN:VTIMEZONE
TZID:Europe/Berlin
X-LIC-LOCATION:Europe/Berlin
BEGIN:STANDARD
DTSTART:20191027T020000
TZOFFSETFROM:+0200
TZOFFSETTO:+0100
TZNAME:CET
END:STANDARD
END:VTIMEZONE
END:VCALENDAR