BEGIN:VCALENDAR
VERSION:2.0
PRODID:-//wp-events-plugin.com//7.2.3.1//EN
TZID:Europe/Berlin
X-WR-TIMEZONE:Europe/Berlin
BEGIN:VEVENT
UID:147@bfm-bayreuth.de
DTSTART;TZID=Europe/Berlin:20180607T190000
DTEND;TZID=Europe/Berlin:20180607T203000
DTSTAMP:20230613T064151Z
URL:https://www.bfm-bayreuth.de/aktuelles/events/einstein1-startup-day-the
 -final-pitches/
SUMMARY:Einstein1 Startup Day - The Final Pitches
DESCRIPTION:Einstein1 Startup Day - The Final Pitches
CATEGORIES:Institut
END:VEVENT
BEGIN:VTIMEZONE
TZID:Europe/Berlin
X-LIC-LOCATION:Europe/Berlin
BEGIN:DAYLIGHT
DTSTART:20180325T030000
TZOFFSETFROM:+0100
TZOFFSETTO:+0200
TZNAME:CEST
END:DAYLIGHT
END:VTIMEZONE
END:VCALENDAR