BEGIN:VCALENDAR
VERSION:2.0
PRODID:-//wp-events-plugin.com//7.2.3.1//EN
TZID:Europe/Berlin
X-WR-TIMEZONE:Europe/Berlin
BEGIN:VEVENT
UID:471@bfm-bayreuth.de
DTSTART;TZID=Europe/Berlin:20220224T170000
DTEND;TZID=Europe/Berlin:20220224T190000
DTSTAMP:20231011T160152Z
URL:https://www.bfm-bayreuth.de/aktuelles/events/erfolgreiche-kapitalbesch
 affung-fuer-unternehmen-start-ups-crowdinvesting-als-alternatives-finanzie
 rungsmodell/
SUMMARY:Erfolgreiche Kapitalbeschaffung für Unternehmen & Start-ups - Crow
 dinvesting als alternatives Finanzierungsmodell
DESCRIPTION:Erfolgreiche Kapitalbeschaffung für Unternehmen & Start-ups - 
 Crowdinvesting als alternatives Finanzierungsmodell
CATEGORIES:DGZ
END:VEVENT
BEGIN:VTIMEZONE
TZID:Europe/Berlin
X-LIC-LOCATION:Europe/Berlin
BEGIN:STANDARD
DTSTART:20211031T020000
TZOFFSETFROM:+0200
TZOFFSETTO:+0100
TZNAME:CET
END:STANDARD
END:VTIMEZONE
END:VCALENDAR