BEGIN:VCALENDAR
VERSION:2.0
PRODID:-//wp-events-plugin.com//7.2.3.1//EN
TZID:Europe/Berlin
X-WR-TIMEZONE:Europe/Berlin
BEGIN:VEVENT
UID:309@bfm-bayreuth.de
DTSTART;TZID=Europe/Berlin:20191025T160000
DTEND;TZID=Europe/Berlin:20191025T180000
DTSTAMP:20230613T064246Z
URL:https://www.bfm-bayreuth.de/aktuelles/events/establishing-transnationa
 l-business-partnerships-between-latin-america-and-caribbean-and-the-eu-thr
 ough-smes-challenges-and-opportunities/
SUMMARY:"Establishing transnational business partnerships between Latin Ame
 rica and Caribbean and the EU through SMEs: Challenges and Opportunities"
DESCRIPTION:"Establishing transnational business partnerships between Latin
  America and Caribbean and the EU through SMEs: Challenges and Opportuniti
 es"
CATEGORIES:Institut
END:VEVENT
BEGIN:VTIMEZONE
TZID:Europe/Berlin
X-LIC-LOCATION:Europe/Berlin
BEGIN:DAYLIGHT
DTSTART:20190331T030000
TZOFFSETFROM:+0100
TZOFFSETTO:+0200
TZNAME:CEST
END:DAYLIGHT
END:VTIMEZONE
END:VCALENDAR