BEGIN:VCALENDAR
VERSION:2.0
PRODID:-//wp-events-plugin.com//7.2.3.1//EN
TZID:Europe/Berlin
X-WR-TIMEZONE:Europe/Berlin
BEGIN:VEVENT
UID:537@bfm-bayreuth.de
DTSTART;TZID=Europe/Berlin:20231012T173000
DTEND;TZID=Europe/Berlin:20231012T193000
DTSTAMP:20230929T145518Z
URL:https://www.bfm-bayreuth.de/aktuelles/events/feedback-for-founders/
SUMMARY:Feedback for Founders
DESCRIPTION:Feedback for Founders
ATTACH;FMTTYPE=image/jpeg:https://www.bfm-bayreuth.de/wp-content/uploads/2
 023/09/IMG_3080.jpeg
CATEGORIES:Institut,Kooperationspartner
END:VEVENT
BEGIN:VTIMEZONE
TZID:Europe/Berlin
X-LIC-LOCATION:Europe/Berlin
BEGIN:DAYLIGHT
DTSTART:20230326T030000
TZOFFSETFROM:+0100
TZOFFSETTO:+0200
TZNAME:CEST
END:DAYLIGHT
END:VTIMEZONE
END:VCALENDAR