BEGIN:VCALENDAR
VERSION:2.0
PRODID:-//wp-events-plugin.com//7.2.3.1//EN
TZID:Europe/Berlin
X-WR-TIMEZONE:Europe/Berlin
BEGIN:VEVENT
UID:571@bfm-bayreuth.de
DTSTART;TZID=Europe/Berlin:20240117T121500
DTEND;TZID=Europe/Berlin:20240117T124500
DTSTAMP:20240117T102624Z
URL:https://www.bfm-bayreuth.de/aktuelles/events/gastvortrag-financing-the
 -european-energy-transition-and-digital-transformation/
SUMMARY:Gastvortrag: Financing the European Energy Transition and digital T
 ransformation
DESCRIPTION:Gastvortrag: Financing the European Energy Transition and digit
 al Transformation
ATTACH;FMTTYPE=image/jpeg:https://www.bfm-bayreuth.de/wp-content/uploads/2
 024/01/Gastvortrag_Financing-European-Energy-Transition.png
CATEGORIES:Institut
LOCATION:Audimax an der Universität Bayreuth\, Universitätsstrasse\, Bayr
 euth\, 98447\, Deutschland
X-APPLE-STRUCTURED-LOCATION;VALUE=URI;X-ADDRESS=Universitätsstrasse\, Bayr
 euth\, 98447\, Deutschland;X-APPLE-RADIUS=100;X-TITLE=Audimax an der Unive
 rsität Bayreuth:geo:0,0
END:VEVENT
BEGIN:VTIMEZONE
TZID:Europe/Berlin
X-LIC-LOCATION:Europe/Berlin
BEGIN:STANDARD
DTSTART:20231029T020000
TZOFFSETFROM:+0200
TZOFFSETTO:+0100
TZNAME:CET
END:STANDARD
END:VTIMEZONE
END:VCALENDAR