BEGIN:VCALENDAR
VERSION:2.0
PRODID:-//wp-events-plugin.com//7.2.3.1//EN
TZID:Europe/Berlin
X-WR-TIMEZONE:Europe/Berlin
BEGIN:VEVENT
UID:413@bfm-bayreuth.de
DTSTART;TZID=Europe/Berlin:20210415T093000
DTEND;TZID=Europe/Berlin:20210415T114500
DTSTAMP:20230613T064303Z
URL:https://www.bfm-bayreuth.de/aktuelles/events/girt-oberfranken-online-c
 onference-fresh-perspectives-in-indo-german-business/
SUMMARY:GIRT Oberfranken: Online-Conference "Fresh Perspectives in Indo-Ger
 man Business"
DESCRIPTION:GIRT Oberfranken: Online-Conference "Fresh Perspectives in Indo
 -German Business"
CATEGORIES:Institut
END:VEVENT
BEGIN:VTIMEZONE
TZID:Europe/Berlin
X-LIC-LOCATION:Europe/Berlin
BEGIN:DAYLIGHT
DTSTART:20210328T030000
TZOFFSETFROM:+0100
TZOFFSETTO:+0200
TZNAME:CEST
END:DAYLIGHT
END:VTIMEZONE
END:VCALENDAR