BEGIN:VCALENDAR
VERSION:2.0
PRODID:-//wp-events-plugin.com//7.2.3.1//EN
TZID:Europe/Berlin
X-WR-TIMEZONE:Europe/Berlin
BEGIN:VEVENT
UID:519@bfm-bayreuth.de
DTSTART;TZID=Europe/Berlin:20230203T170000
DTEND;TZID=Europe/Berlin:20230205T180000
DTSTAMP:20231002T101048Z
URL:https://www.bfm-bayreuth.de/aktuelles/events/global-game-jam/
SUMMARY:Global Game Jam
DESCRIPTION:Global Game Jam
ATTACH;FMTTYPE=image/jpeg:https://www.bfm-bayreuth.de/wp-content/uploads/2
 023/10/Global-Game-Jam.png
CATEGORIES:Institut
END:VEVENT
BEGIN:VTIMEZONE
TZID:Europe/Berlin
X-LIC-LOCATION:Europe/Berlin
BEGIN:STANDARD
DTSTART:20221030T020000
TZOFFSETFROM:+0200
TZOFFSETTO:+0100
TZNAME:CET
END:STANDARD
END:VTIMEZONE
END:VCALENDAR