BEGIN:VCALENDAR
VERSION:2.0
PRODID:-//wp-events-plugin.com//7.2.3.1//EN
TZID:Europe/Berlin
X-WR-TIMEZONE:Europe/Berlin
BEGIN:VEVENT
UID:547@bfm-bayreuth.de
DTSTART;TZID=Europe/Berlin:20230928T170000
DTEND;TZID=Europe/Berlin:20230928T190000
DTSTAMP:20231002T090221Z
URL:https://www.bfm-bayreuth.de/aktuelles/events/grill-the-expert-ki-ist-d
 ie-elektrizitaet-des-21-jahrhunderts-eine-chance-fuer-die-kmus/
SUMMARY:Grill the Expert - „KI ist die Elektrizität des 21. Jahrhunderts
  – eine Chance für die KMUs“
DESCRIPTION:Grill the Expert - „KI ist die Elektrizität des 21. Jahrhund
 erts – eine Chance für die KMUs“
CATEGORIES:Institut,Kooperationspartner
END:VEVENT
BEGIN:VTIMEZONE
TZID:Europe/Berlin
X-LIC-LOCATION:Europe/Berlin
BEGIN:DAYLIGHT
DTSTART:20230326T030000
TZOFFSETFROM:+0100
TZOFFSETTO:+0200
TZNAME:CEST
END:DAYLIGHT
END:VTIMEZONE
END:VCALENDAR