BEGIN:VCALENDAR
VERSION:2.0
PRODID:-//wp-events-plugin.com//7.2.3.1//EN
TZID:Europe/Berlin
X-WR-TIMEZONE:Europe/Berlin
BEGIN:VEVENT
UID:674@bfm-bayreuth.de
DTSTART;TZID=Europe/Berlin:20251029T123000
DTEND;TZID=Europe/Berlin:20251029T180000
DTSTAMP:20250922T152259Z
URL:https://www.bfm-bayreuth.de/aktuelles/events/innovation-pulse-oberfran
 ken-ki-in-der-innovation/
SUMMARY:Innovation Pulse Oberfranken - KI in der Innovation
DESCRIPTION:Innovation Pulse Oberfranken - KI in der Innovation
CATEGORIES:DGZ
LOCATION:Turbine Kulmbach\, Heinrich-von-Stephan-Straße 5\, Kulmbach\, 953
 26\, Deutschland
X-APPLE-STRUCTURED-LOCATION;VALUE=URI;X-ADDRESS=Heinrich-von-Stephan-Straß
 e 5\, Kulmbach\, 95326\, Deutschland;X-APPLE-RADIUS=100;X-TITLE=Turbine Ku
 lmbach:geo:0,0
END:VEVENT
BEGIN:VTIMEZONE
TZID:Europe/Berlin
X-LIC-LOCATION:Europe/Berlin
BEGIN:STANDARD
DTSTART:20251026T020000
TZOFFSETFROM:+0200
TZOFFSETTO:+0100
TZNAME:CET
END:STANDARD
END:VTIMEZONE
END:VCALENDAR