BEGIN:VCALENDAR
VERSION:2.0
PRODID:-//wp-events-plugin.com//7.2.3.1//EN
TZID:Europe/Berlin
X-WR-TIMEZONE:Europe/Berlin
BEGIN:VEVENT
UID:253@bfm-bayreuth.de
DTSTART;TZID=Europe/Berlin:20190517T080000
DTEND;TZID=Europe/Berlin:20190517T100000
DTSTAMP:20230613T064244Z
URL:https://www.bfm-bayreuth.de/aktuelles/events/izk-unternehmerfruehstuec
 k-intralogistik-4-0-zukunft-der-fahrerlosen-transportsysteme/
SUMMARY:IZK-Unternehmerfrühstück "Intralogistik 4.0: Zukunft der fahrerlo
 sen Transportsysteme"
DESCRIPTION:IZK-Unternehmerfrühstück "Intralogistik 4.0: Zukunft der fahr
 erlosen Transportsysteme"
CATEGORIES:Institut
END:VEVENT
BEGIN:VTIMEZONE
TZID:Europe/Berlin
X-LIC-LOCATION:Europe/Berlin
BEGIN:DAYLIGHT
DTSTART:20190331T030000
TZOFFSETFROM:+0100
TZOFFSETTO:+0200
TZNAME:CEST
END:DAYLIGHT
END:VTIMEZONE
END:VCALENDAR