BEGIN:VCALENDAR
VERSION:2.0
PRODID:-//wp-events-plugin.com//7.2.3.1//EN
TZID:Europe/Berlin
X-WR-TIMEZONE:Europe/Berlin
BEGIN:VEVENT
UID:68@bfm-bayreuth.de
DTSTART;TZID=Europe/Berlin:20170928T160000
DTEND;TZID=Europe/Berlin:20170928T210000
DTSTAMP:20230613T064147Z
URL:https://www.bfm-bayreuth.de/aktuelles/events/kreative-lounge-fuer-exis
 tenzgruender/
SUMMARY:Kreative Lounge für Existenzgründer
DESCRIPTION:Kreative Lounge für Existenzgründer
CATEGORIES:Institut
END:VEVENT
BEGIN:VTIMEZONE
TZID:Europe/Berlin
X-LIC-LOCATION:Europe/Berlin
BEGIN:DAYLIGHT
DTSTART:20170326T030000
TZOFFSETFROM:+0100
TZOFFSETTO:+0200
TZNAME:CEST
END:DAYLIGHT
END:VTIMEZONE
END:VCALENDAR