BEGIN:VCALENDAR
VERSION:2.0
PRODID:-//wp-events-plugin.com//7.2.3.1//EN
TZID:Europe/Berlin
X-WR-TIMEZONE:Europe/Berlin
BEGIN:VEVENT
UID:110@bfm-bayreuth.de
DTSTART;TZID=Europe/Berlin:20180208T180000
DTEND;TZID=Europe/Berlin:20180208T210000
DTSTAMP:20230613T064149Z
URL:https://www.bfm-bayreuth.de/aktuelles/events/lessons-learned-erfahrung
 saustausch-zur-dsgvo/
SUMMARY:Lessons Learned: Erfahrungsaustausch zur DSGVO
DESCRIPTION:Lessons Learned: Erfahrungsaustausch zur DSGVO
CATEGORIES:Institut
END:VEVENT
BEGIN:VTIMEZONE
TZID:Europe/Berlin
X-LIC-LOCATION:Europe/Berlin
BEGIN:STANDARD
DTSTART:20171029T020000
TZOFFSETFROM:+0200
TZOFFSETTO:+0100
TZNAME:CET
END:STANDARD
END:VTIMEZONE
END:VCALENDAR