BEGIN:VCALENDAR
VERSION:2.0
PRODID:-//wp-events-plugin.com//7.2.3.1//EN
TZID:Europe/Berlin
X-WR-TIMEZONE:Europe/Berlin
BEGIN:VEVENT
UID:432@bfm-bayreuth.de
DTSTART;TZID=Europe/Berlin:20210726T235900
DTEND;TZID=Europe/Berlin:20210726T235900
DTSTAMP:20230613T064304Z
URL:https://www.bfm-bayreuth.de/aktuelles/events/like-a-pro-dein-weg-zum-p
 erfekten-videopitch/
SUMMARY:Like a pro - Dein Weg zum perfekten Videopitch
DESCRIPTION:Like a pro - Dein Weg zum perfekten Videopitch
CATEGORIES:Institut
END:VEVENT
BEGIN:VTIMEZONE
TZID:Europe/Berlin
X-LIC-LOCATION:Europe/Berlin
BEGIN:DAYLIGHT
DTSTART:20210328T030000
TZOFFSETFROM:+0100
TZOFFSETTO:+0200
TZNAME:CEST
END:DAYLIGHT
END:VTIMEZONE
END:VCALENDAR