BEGIN:VCALENDAR
VERSION:2.0
PRODID:-//wp-events-plugin.com//7.2.3.1//EN
TZID:Europe/Berlin
X-WR-TIMEZONE:Europe/Berlin
BEGIN:VEVENT
UID:329@bfm-bayreuth.de
DTSTART;TZID=Europe/Berlin:20200116T190000
DTEND;TZID=Europe/Berlin:20200116T203000
DTSTAMP:20230613T064247Z
URL:https://www.bfm-bayreuth.de/aktuelles/events/lol-night-hochschule-hof-
 vs-minkz-gaming/
SUMMARY:LoL Night: Hochschule Hof vs. MINKZ Gaming
DESCRIPTION:LoL Night: Hochschule Hof vs. MINKZ Gaming
CATEGORIES:Institut
END:VEVENT
BEGIN:VTIMEZONE
TZID:Europe/Berlin
X-LIC-LOCATION:Europe/Berlin
BEGIN:STANDARD
DTSTART:20191027T020000
TZOFFSETFROM:+0200
TZOFFSETTO:+0100
TZNAME:CET
END:STANDARD
END:VTIMEZONE
END:VCALENDAR