BEGIN:VCALENDAR
VERSION:2.0
PRODID:-//wp-events-plugin.com//7.2.3.1//EN
TZID:Europe/Berlin
X-WR-TIMEZONE:Europe/Berlin
BEGIN:VEVENT
UID:321@bfm-bayreuth.de
DTSTART;TZID=Europe/Berlin:20191126T190000
DTEND;TZID=Europe/Berlin:20191126T210000
DTSTAMP:20230613T064247Z
URL:https://www.bfm-bayreuth.de/aktuelles/events/mco-workshop-datenschutz-
 und-marketing-praxisnah-organisieren/
SUMMARY:MCO: WORKSHOP "Datenschutz und Marketing praxisnah organisieren!"
DESCRIPTION:MCO: WORKSHOP "Datenschutz und Marketing praxisnah organisieren
 !"
CATEGORIES:Institut
END:VEVENT
BEGIN:VTIMEZONE
TZID:Europe/Berlin
X-LIC-LOCATION:Europe/Berlin
BEGIN:STANDARD
DTSTART:20191027T020000
TZOFFSETFROM:+0200
TZOFFSETTO:+0100
TZNAME:CET
END:STANDARD
END:VTIMEZONE
END:VCALENDAR