BEGIN:VCALENDAR
VERSION:2.0
PRODID:-//wp-events-plugin.com//7.2.3.1//EN
TZID:Europe/Berlin
X-WR-TIMEZONE:Europe/Berlin
BEGIN:VEVENT
UID:548@bfm-bayreuth.de
DTSTART;TZID=Europe/Berlin:20230626T133000
DTEND;TZID=Europe/Berlin:20230626T183000
DTSTAMP:20231002T085344Z
URL:https://www.bfm-bayreuth.de/aktuelles/events/mit-kreativen-recruiting-
 ideen-potenzielle-mitarbeitende-ueberraschen-und-ueberzeugen-kreativworksh
 op/
SUMMARY:Mit kreativen Recruiting-Ideen potenzielle Mitarbeitende überrasch
 en und überzeugen (Kreativworkshop)
DESCRIPTION:Mit kreativen Recruiting-Ideen potenzielle Mitarbeitende überr
 aschen und überzeugen (Kreativworkshop)
CATEGORIES:Institut,Kooperationspartner
END:VEVENT
BEGIN:VTIMEZONE
TZID:Europe/Berlin
X-LIC-LOCATION:Europe/Berlin
BEGIN:DAYLIGHT
DTSTART:20230326T030000
TZOFFSETFROM:+0100
TZOFFSETTO:+0200
TZNAME:CEST
END:DAYLIGHT
END:VTIMEZONE
END:VCALENDAR