BEGIN:VCALENDAR
VERSION:2.0
PRODID:-//wp-events-plugin.com//7.2.3.1//EN
TZID:Europe/Berlin
X-WR-TIMEZONE:Europe/Berlin
BEGIN:VEVENT
UID:545@bfm-bayreuth.de
DTSTART;TZID=Europe/Berlin:20230626T133000
DTEND;TZID=Europe/Berlin:20230626T183000
DTSTAMP:20231002T085546Z
URL:https://www.bfm-bayreuth.de/aktuelles/events/mit-storytelling-unterneh
 menswerte-vision-und-mission-begeisternd-kommunizieren/
SUMMARY:Mit Storytelling Unternehmenswerte\, Vision und Mission begeisternd
  kommunizieren
DESCRIPTION:Mit Storytelling Unternehmenswerte\, Vision und Mission begeist
 ernd kommunizieren
CATEGORIES:Institut,Kooperationspartner
END:VEVENT
BEGIN:VTIMEZONE
TZID:Europe/Berlin
X-LIC-LOCATION:Europe/Berlin
BEGIN:DAYLIGHT
DTSTART:20230326T030000
TZOFFSETFROM:+0100
TZOFFSETTO:+0200
TZNAME:CEST
END:DAYLIGHT
END:VTIMEZONE
END:VCALENDAR