BEGIN:VCALENDAR
VERSION:2.0
PRODID:-//wp-events-plugin.com//7.2.3.1//EN
TZID:Europe/Berlin
X-WR-TIMEZONE:Europe/Berlin
BEGIN:VEVENT
UID:144@bfm-bayreuth.de
DTSTART;TZID=Europe/Berlin:20180604T190000
DTEND;TZID=Europe/Berlin:20180604T233000
DTSTAMP:20230613T064151Z
URL:https://www.bfm-bayreuth.de/aktuelles/events/nerdy-mondays-coworking-f
 uer-alle-an-der-uni-bayreuth-17/
SUMMARY:Nerdy Mondays - Coworking für alle an der Uni Bayreuth
DESCRIPTION:Nerdy Mondays - Coworking für alle an der Uni Bayreuth
CATEGORIES:Institut
END:VEVENT
BEGIN:VTIMEZONE
TZID:Europe/Berlin
X-LIC-LOCATION:Europe/Berlin
BEGIN:DAYLIGHT
DTSTART:20180325T030000
TZOFFSETFROM:+0100
TZOFFSETTO:+0200
TZNAME:CEST
END:DAYLIGHT
END:VTIMEZONE
END:VCALENDAR