BEGIN:VCALENDAR
VERSION:2.0
PRODID:-//wp-events-plugin.com//7.2.3.1//EN
TZID:Europe/Berlin
X-WR-TIMEZONE:Europe/Berlin
BEGIN:VEVENT
UID:228@bfm-bayreuth.de
DTSTART;TZID=Europe/Berlin:20190312T183000
DTEND;TZID=Europe/Berlin:20190312T200000
DTSTAMP:20230613T064242Z
URL:https://www.bfm-bayreuth.de/aktuelles/events/nmb-sind-kunststoffe-eine
 -gefahr-fuer-unsere-zukunft-neue-materialien-bayreuth-gmbh/
SUMMARY:NMB: Vortrag des Monats März
DESCRIPTION:NMB: Vortrag des Monats März
CATEGORIES:Institut
END:VEVENT
BEGIN:VTIMEZONE
TZID:Europe/Berlin
X-LIC-LOCATION:Europe/Berlin
BEGIN:STANDARD
DTSTART:20181028T020000
TZOFFSETFROM:+0200
TZOFFSETTO:+0100
TZNAME:CET
END:STANDARD
END:VTIMEZONE
END:VCALENDAR