BEGIN:VCALENDAR
VERSION:2.0
PRODID:-//wp-events-plugin.com//7.2.3.1//EN
TZID:Europe/Berlin
X-WR-TIMEZONE:Europe/Berlin
BEGIN:VEVENT
UID:389@bfm-bayreuth.de
DTSTART;TZID=Europe/Berlin:20201015T170000
DTEND;TZID=Europe/Berlin:20201015T183000
DTSTAMP:20230613T064302Z
URL:https://www.bfm-bayreuth.de/aktuelles/events/online-veranstaltung-anwe
 ndung-von-ki-im-onlinehandel/
SUMMARY:Online-Veranstaltung „Anwendung von KI im Onlinehandel“
DESCRIPTION:Online-Veranstaltung „Anwendung von KI im Onlinehandel“
CATEGORIES:Institut
END:VEVENT
BEGIN:VTIMEZONE
TZID:Europe/Berlin
X-LIC-LOCATION:Europe/Berlin
BEGIN:DAYLIGHT
DTSTART:20200329T030000
TZOFFSETFROM:+0100
TZOFFSETTO:+0200
TZNAME:CEST
END:DAYLIGHT
END:VTIMEZONE
END:VCALENDAR