BEGIN:VCALENDAR
VERSION:2.0
PRODID:-//wp-events-plugin.com//7.2.3.1//EN
TZID:Europe/Berlin
X-WR-TIMEZONE:Europe/Berlin
BEGIN:VEVENT
UID:394@bfm-bayreuth.de
DTSTART;TZID=Europe/Berlin:20201126T163000
DTEND;TZID=Europe/Berlin:20201126T180000
DTSTAMP:20230613T064302Z
URL:https://www.bfm-bayreuth.de/aktuelles/events/online-veranstaltung-hr-4
 -0-chancen-und-herausforderungen-fuer-unternehmen-im-digitalen-zeitalter/
SUMMARY:Online-Veranstaltung „HR 4.0 - Chancen und Herausforderungen für
  Unternehmen im digitalen Zeitalter“
DESCRIPTION:Online-Veranstaltung „HR 4.0 - Chancen und Herausforderungen 
 für Unternehmen im digitalen Zeitalter“
CATEGORIES:Institut
END:VEVENT
BEGIN:VTIMEZONE
TZID:Europe/Berlin
X-LIC-LOCATION:Europe/Berlin
BEGIN:STANDARD
DTSTART:20201025T020000
TZOFFSETFROM:+0200
TZOFFSETTO:+0100
TZNAME:CET
END:STANDARD
END:VTIMEZONE
END:VCALENDAR