BEGIN:VCALENDAR
VERSION:2.0
PRODID:-//wp-events-plugin.com//7.2.3.1//EN
TZID:Europe/Berlin
X-WR-TIMEZONE:Europe/Berlin
BEGIN:VEVENT
UID:410@bfm-bayreuth.de
DTSTART;TZID=Europe/Berlin:20210325T140000
DTEND;TZID=Europe/Berlin:20210325T160000
DTSTAMP:20230613T064303Z
URL:https://www.bfm-bayreuth.de/aktuelles/events/personalmanagement-digita
 lisieren-heute-an-uebermorgen-denken-2/
SUMMARY:Personalmanagement digitalisieren - heute an übermorgen denken
DESCRIPTION:Personalmanagement digitalisieren - heute an übermorgen denken
CATEGORIES:Institut
END:VEVENT
BEGIN:VTIMEZONE
TZID:Europe/Berlin
X-LIC-LOCATION:Europe/Berlin
BEGIN:STANDARD
DTSTART:20201025T020000
TZOFFSETFROM:+0200
TZOFFSETTO:+0100
TZNAME:CET
END:STANDARD
END:VTIMEZONE
END:VCALENDAR