BEGIN:VCALENDAR
VERSION:2.0
PRODID:-//wp-events-plugin.com//7.2.3.1//EN
TZID:Europe/Berlin
X-WR-TIMEZONE:Europe/Berlin
BEGIN:VEVENT
UID:232@bfm-bayreuth.de
DTSTART;TZID=Europe/Berlin:20190319T133000
DTEND;TZID=Europe/Berlin:20190319T170000
DTSTAMP:20230613T064243Z
URL:https://www.bfm-bayreuth.de/aktuelles/events/personet-ak-betriebliches
 -gesundheietsmanagement/
SUMMARY:PERSONET-AK "Betriebliches Gesundheitsmanagement"
DESCRIPTION:PERSONET-AK "Betriebliches Gesundheitsmanagement"
CATEGORIES:Institut
END:VEVENT
BEGIN:VTIMEZONE
TZID:Europe/Berlin
X-LIC-LOCATION:Europe/Berlin
BEGIN:STANDARD
DTSTART:20181028T020000
TZOFFSETFROM:+0200
TZOFFSETTO:+0100
TZNAME:CET
END:STANDARD
END:VTIMEZONE
END:VCALENDAR