BEGIN:VCALENDAR
VERSION:2.0
PRODID:-//wp-events-plugin.com//7.2.3.1//EN
TZID:Europe/Berlin
X-WR-TIMEZONE:Europe/Berlin
BEGIN:VEVENT
UID:466@bfm-bayreuth.de
DTSTART;TZID=Europe/Berlin:20211216T081500
DTEND;TZID=Europe/Berlin:20211216T094500
DTSTAMP:20230613T064305Z
URL:https://www.bfm-bayreuth.de/aktuelles/events/process-mining-data-scien
 ce-in-action/
SUMMARY:Process Mining – Data Science in Action
DESCRIPTION:Process Mining – Data Science in Action
CATEGORIES:Institut
END:VEVENT
BEGIN:VTIMEZONE
TZID:Europe/Berlin
X-LIC-LOCATION:Europe/Berlin
BEGIN:STANDARD
DTSTART:20211031T020000
TZOFFSETFROM:+0200
TZOFFSETTO:+0100
TZNAME:CET
END:STANDARD
END:VTIMEZONE
END:VCALENDAR